BEGIN:VCALENDAR
VERSION:2.0
PRODID:-//NHS SBS//Event Webinar Calendar//EN
BEGIN:VEVENT
UID:https%3A%2F%2Fwww.sbs.nhs.uk%2Fevents-webinars%2Fone-nhs-finance-leadership-summit%2F
DTSTAMP:20260425T201528Z
DTSTART:20250703T080000Z
DTEND:20250704T120000Z
SUMMARY:One NHS Finance Leadership Summit
LOCATION:Event
DESCRIPTION:Visit our stand to find out how we can support your organisation with our services, developed with and for the NHS.\n\n - Stand: 13
URL:https://www.sbs.nhs.uk/events-webinars/one-nhs-finance-leadership-summit/
END:VEVENT
END:VCALENDAR
