BEGIN:VCALENDAR
VERSION:2.0
PRODID:-//NHS SBS//Event Webinar Calendar//EN
BEGIN:VEVENT
UID:https%3A%2F%2Fwww.sbs.nhs.uk%2Fevents-webinars%2Fprocurement-act-live-2025%2F
DTSTAMP:20260425T163403Z
DTSTART:20251014T080000Z
DTEND:20251014T150000Z
SUMMARY:Procurement Act Live 2025
LOCATION:Event
DESCRIPTION:Procurement Act Live 2025 - Unpacking the new regulations – the impact on procuring health services\n \nJoin us at Procurement Act Live to hear from Alison and Greg on how the Procurement Act and Provider Selection Regime have changed how the NHS procures clinical health services. \nHear practical tips on how to identify which set of regulations you need to use, how to navigate both for best outcomes, and the key things you need to be aware of to remain compliant. - Stand: 
URL:https://www.sbs.nhs.uk/events-webinars/procurement-act-live-2025/
END:VEVENT
END:VCALENDAR
