BEGIN:VCALENDAR
VERSION:2.0
PRODID:-//NHS SBS//Event Webinar Calendar//EN
BEGIN:VEVENT
UID:https%3A%2F%2Fwww.sbs.nhs.uk%2Fevents-webinars%2Fnhs-employers-swf-2%2F
DTSTAMP:20260425T181914Z
DTSTART:20251008T080000Z
DTEND:20251009T143000Z
SUMMARY:NHS Employers Strategic Workforce Forum
LOCATION:Event
DESCRIPTION:Visit our stand to find out how we can support your organisation with our services, developed with and for the NHS.\n\n - Stand: 19
URL:https://www.sbs.nhs.uk/events-webinars/nhs-employers-swf-2/
END:VEVENT
END:VCALENDAR
