BEGIN:VCALENDAR
VERSION:2.0
PRODID:-//NHS SBS//Event Webinar Calendar//EN
BEGIN:VEVENT
UID:https%3A%2F%2Fwww.sbs.nhs.uk%2Fevents-webinars%2Fhcsa-annual-conference-2%2F
DTSTAMP:20260425T181811Z
DTSTART:20251119T083000Z
DTEND:20251120T170000Z
SUMMARY:HCSA Annual Conference
LOCATION:Event
DESCRIPTION:Spend smarter, not just faster. With innovative framework agreements and tailored sourcing support you can do more, with less.\n\nWhether your focus is on delivering progress against key targets, meeting the three big healthcare shifts, or collaborating across procurement to deliver greater efficiencies, we can help you:\n\nDeliver strategic value and procurement impact\nEnable NHS transformation across digital, estates and clinical services\nFoster collaboration and drive time and cost efficiencies by enabling purchasing at scale across multiple organisations\nCapture and categorise all spend so you can extract the best value from every pound\n\n\nVisit us at stand 35 and attend our speaker sessions to discover how we can help your organisation.\n - Stand: 35
URL:https://www.sbs.nhs.uk/events-webinars/hcsa-annual-conference-2/
END:VEVENT
END:VCALENDAR
