BEGIN:VCALENDAR
VERSION:2.0
PRODID:-//NHS SBS//Event Webinar Calendar//EN
BEGIN:VEVENT
UID:https%3A%2F%2Fwww.sbs.nhs.uk%2Fevents-webinars%2Fhfma-annual-conference%2F
DTSTAMP:20260425T181827Z
DTSTART:20251203T090000Z
DTEND:20251205T140000Z
SUMMARY:HFMA Annual Conference
LOCATION:Event
DESCRIPTION:NHS SBS is showcasing its unified finance and procurement service that drives savings, insight, and operational and strategic transformation. This unique solution puts data and insight into the hands of those who need them to identify opportunities and risks, make decisions, and report quickly and accurately at local, system and national levels. \n\nVisit us on stand C15 to learn how the new service connects people, teams, organisations and systems on a single platform, and helps everyone get things right, first time. \n\nOur consultancy team will also be on hand to discuss how NHS SBS can advise and/or deliver other aspects of building your future-ready finance function. From automation to AI implementation to target operating model optimisation – we can help.  - Stand: C15
URL:https://www.sbs.nhs.uk/events-webinars/hfma-annual-conference/
END:VEVENT
END:VCALENDAR
