BEGIN:VCALENDAR
VERSION:2.0
PRODID:-//NHS SBS//Event Webinar Calendar//EN
BEGIN:VEVENT
UID:https%3A%2F%2Fwww.sbs.nhs.uk%2Fevents-webinars%2Fhpma-annual-conference-3%2F
DTSTAMP:20260425T181950Z
DTSTART:20251120T084500Z
DTEND:20251120T160000Z
SUMMARY:HPMA Annual Conference
LOCATION:Event
DESCRIPTION:The lifeblood of the NHS is its people.\n\nNHS Shared Business Services’ end-to-end solution portfolio enables NHS organisations and their employees to focus more time and energy on patient care and achieving their objectives.\n\nTrusted by more NHS employers than any other provider, our Payroll and Pension services issue 1.15m payslips each month with 99.9% accuracy, and manage 295,000 pension records each year.\n\nWe encourage leaders to start with expert advice - our consultants bring deep sector knowledge and NHS-specific strategies to streamline operations, empower HR teams, and build future-ready services that support long-term workforce stability.\n\nJoin our Learning Lab session at lunchtime to hear how shared services can help the NHS drive best practice, digitalisation, innovation, and cost efficiency across its workforce services, while also retaining the very best local talent and elevating the role of in-house teams.  \n\nVisit us at stand 29 and attend our Learning Lab session to discover how we can help your organisation. - Stand: 21
URL:https://www.sbs.nhs.uk/events-webinars/hpma-annual-conference-3/
END:VEVENT
END:VCALENDAR
