BEGIN:VCALENDAR
VERSION:2.0
PRODID:-//NHS SBS//Event Webinar Calendar//EN
BEGIN:VEVENT
UID:https%3A%2F%2Fwww.sbs.nhs.uk%2Fevents-webinars%2Fhfma-procurement-forum%2F
DTSTAMP:20260425T181402Z
DTSTART:20260122T090000Z
DTEND:20260122T170000Z
SUMMARY:HFMA Procurement Forum
LOCATION:Event
DESCRIPTION:NHS SBS is showcasing its unified finance and procurement service that drives savings, insight, and operational and strategic transformation. \n\nThis unique solution puts data and insight into the hands of those who need them to identify opportunities and risks, make decisions, and report quickly and accurately at local, system and national levels. \n\nVisit our exhibition stand to learn how the new service connects people, teams, organisations and systems on a single platform, and helps everyone get things right, first time. \n\nOur consultancy team will also be on hand to discuss how NHS SBS can partner with the NHS to co-design standard processes and realise the benefits of the unified service.  - Stand: 6
URL:https://www.sbs.nhs.uk/events-webinars/hfma-procurement-forum/
END:VEVENT
END:VCALENDAR
