BEGIN:VCALENDAR
VERSION:2.0
PRODID:-//NHS SBS//Event Webinar Calendar//EN
BEGIN:VEVENT
UID:https%3A%2F%2Fwww.sbs.nhs.uk%2Fevents-webinars%2Fhcsa-north%2F
DTSTAMP:20260425T144846Z
DTSTART:20260521T080000Z
DTEND:20260521T160000Z
SUMMARY:HCSA North Conference
LOCATION:Event
DESCRIPTION:We are the one NHS procurement partner that can support delivery and transformation of the whole commercial lifecycle. \n\nOur services include:\n\n•	Commercial Delivery Partner services, providing tailored commercial and strategic procurement support to address your key priorities. We can run end-to-end procurements on your behalf too, removing pressure from your team, ensuring compliance, and using data to deliver the most cost-effective approach\n•	End-to-end, Enhanced P2P, with catalogue management, to deliver efficiencies and eliminate costly, time-consuming manual tasks\n•	Framework agreements that offer a compliant route to market, with typical savings of up to 15%\n•	Carbon Mapping Specialist Services, providing clear data insights to drive positive change in reducing scope 3.1 emissions\n•	Specialist commercial support options, including procurement operating model transformation and major programme delivery support\n\nAll our Procurement service options are designed to be flexible, based on your current situation and the appetite for change, which means you can take anything from individual service lines to a fully integrated procurement service solution. Our team of experts, who have been providing procurement support for over 20 years, are here to help. Visit our stand to find out how we can work with you to overcome the challenges you face.\n\nVisit us at HCSA North to discover how we can help your organisation. - Stand: 
URL:https://www.sbs.nhs.uk/events-webinars/hcsa-north/
END:VEVENT
END:VCALENDAR
