BEGIN:VCALENDAR
VERSION:2.0
PRODID:-//NHS SBS//Event Webinar Calendar//EN
BEGIN:VEVENT
UID:https%3A%2F%2Fwww.sbs.nhs.uk%2Fevents-webinars%2Fhcsa-annual-conference-3%2F
DTSTAMP:20260425T162949Z
DTSTART:20261118T090000Z
DTEND:20261119T170000Z
SUMMARY:HCSA Annual Conference
LOCATION:Event
DESCRIPTION:We’ll be heading to the HCSA Annual Conference in Telford on 18 & 19 November. Come and meet the team to hear how our services can support your organisation.\n\nMore details coming soon! - Stand: 45
URL:https://www.sbs.nhs.uk/events-webinars/hcsa-annual-conference-3/
END:VEVENT
END:VCALENDAR
