BEGIN:VCALENDAR
VERSION:2.0
PRODID:-//NHS SBS//Event Webinar Calendar//EN
BEGIN:VEVENT
UID:https%3A%2F%2Fwww.sbs.nhs.uk%2Fevents-webinars%2Feducation-estates-3%2F
DTSTAMP:20260425T162930Z
DTSTART:20261020T080000Z
DTEND:20261021T160000Z
SUMMARY:Education Estates
LOCATION:Event
DESCRIPTION:We’ll be heading to Education Estates in Manchester on 20 & 21 October. Come and meet the team to hear how our services can support your organisation. \n\nMore details coming soon! - Stand: 721
URL:https://www.sbs.nhs.uk/events-webinars/education-estates-3/
END:VEVENT
END:VCALENDAR
