BEGIN:VCALENDAR
VERSION:2.0
PRODID:-//NHS SBS//Event Webinar Calendar//EN
BEGIN:VEVENT
UID:https%3A%2F%2Fwww.sbs.nhs.uk%2Fevents-webinars%2Fhfma-annual-conference-3%2F
DTSTAMP:20260425T162931Z
DTSTART:20261209T120000Z
DTEND:20261211T140000Z
SUMMARY:HFMA Annual Conference
LOCATION:Event
DESCRIPTION:We’ll be heading to the HFMA Annual Conference in Birmingham from 9-11 December. Come and meet the team to hear how our services can support your organisation. \n\nNHS Shared Business Services is a unique DHSC joint venture, set up to  make life easier for NHS employees, patients and suppliers, and deliver value for money to the taxpayer. Focused on financial resilience, workforce optimisation, and digital transformation, we have delivered over £1 billion in savings to the NHS to date. Our shared solutions are informed by big data and powered by cutting-edge technologies, delivering efficiency, effectiveness and resilience at levels unachievable for organisations working alone. - Stand: 
URL:https://www.sbs.nhs.uk/events-webinars/hfma-annual-conference-3/
END:VEVENT
END:VCALENDAR
