BEGIN:VCALENDAR
VERSION:2.0
PRODID:-//NHS SBS//Event Webinar Calendar//EN
BEGIN:VEVENT
UID:https%3A%2F%2Fwww.sbs.nhs.uk%2Fevents-webinars%2Fhcsa-eis-midlands-east-of-england-2%2F
DTSTAMP:20260423T155949Z
DTSTART:20250501T080000Z
DTEND:20250501T160000Z
SUMMARY:HCSA EIS Midlands/East of England
LOCATION:Event
DESCRIPTION:Visit our stand to find out how we can support your organisation with our services, developed with and for the NHS.\n\nTo find out more, visit our stand and join us for our speaker session, where Alison and Neil will be discussing how procurement teams can collaborate for improved outcomes. - Stand: 
URL:https://www.sbs.nhs.uk/events-webinars/hcsa-eis-midlands-east-of-england-2/
END:VEVENT
END:VCALENDAR
